BEGIN:VCALENDAR
PRODID:-//kirchenweb.ch gmbh//veranstaltungsausgabe v2.0//DE
VERSION:2.0
METHOD:PUBLISH
BEGIN:VEVENT
DTSTART:20260716T120000Z
DTEND:20260716T130000Z
LOCATION:Ref. Pfarrhaussaal\, Kirchstrasse 10\, 8603 Schwerzenbach
TRANSP:OPAQUE
SEQUENCE:0
UID:19498-veranstaltung@kath-dfs.ch
DTSTAMP:20260421T122307Z
DESCRIPTION:Für Abholdienst bitte bis 10.00 Uhr im Sekretariat melden
  (Tel. 043 355 57 62). \n\nKontakt: marlis.thoma@kath-dfs.ch\n\nWeitere
  Infos: https://www.kath-dfs.ch/veranstaltung/19498
SUMMARY:ökumenischer Seniorenkafi
PRIORITY:5
X-MICROSOFT-CDO-IMPORTANCE:1
CLASS:PUBLIC
END:VEVENT
END:VCALENDAR
