BEGIN:VCALENDAR
PRODID:-//kirchenweb.ch gmbh//veranstaltungsausgabe v2.0//DE
VERSION:2.0
METHOD:PUBLISH
BEGIN:VEVENT
DTSTART:20260613T090000Z
DTEND:20260613T100000Z
LOCATION:Kath. Pfarreizentrum St. Gabriel\, Dorfstrasse 9a\, 8603
  Schwerzenbach
TRANSP:OPAQUE
SEQUENCE:0
UID:19400-veranstaltung@kath-dfs.ch
DTSTAMP:20260326T131314Z
DESCRIPTION:Ein ökum. Gottesdienst für alle Kinder bis ca. sieben Jahre
  in Begleitung ihrer Eltern\, Grosseltern\, Gotten und Göttis. Wir
  erzählen eine Geschichte\, singen\, basteln und beten dazu.\n\nKontakt:
  marlis.thoma@kath-dfs.ch\n\nWeitere Infos:
  https://www.kath-dfs.ch/veranstaltung/19400
SUMMARY:Fiire mit de Chliine
PRIORITY:5
X-MICROSOFT-CDO-IMPORTANCE:1
CLASS:PUBLIC
END:VEVENT
END:VCALENDAR
