BEGIN:VCALENDAR
PRODID:-//kirchenweb.ch gmbh//veranstaltungsausgabe v2.0//DE
VERSION:2.0
METHOD:PUBLISH
BEGIN:VEVENT
DTSTART:20260611T120000Z
DTEND:20260611T140000Z
LOCATION:Chimlisaal\, Bahnstrasse 14\, 8603 Schwerzenbach
TRANSP:OPAQUE
SEQUENCE:0
UID:19399-veranstaltung@kath-dfs.ch
DTSTAMP:20260326T131253Z
DESCRIPTION:Tanzen ist wie eine Massage für die Seele!\nIm Hier und Jetzt
  ankommen. Bewusst wahrnehmen\, wie ich da bin\, in mich hineinspüren\,
  mich\nvon der Musik und den Bewegungen tragen lassen. Zur Ruhe kommen und
  doch in Bewegung sein\, Stille erfahren und auch übersprudeln vor
  Freude\, ganz bei mir ankommen und doch verbunden sein mit den anderen.
 \nMitbringen: Freude an Bewegung und Musik. Bequeme Kleidung und wenn
  vorhanden Tanzschuhe\nOrt: Gemeindesaal Schwerzenbach\, Chimlimärt\,
  Bahnstrasse 14\, vis-à-vis Bahnhof\nZeit Jeweils einmal im Monat
  donnerstags 14 – 16 Uh\n\n\n\nKontakt: marlis.thoma@kath-dfs.ch\n
 \nWeitere Infos: https://www.kath-dfs.ch/veranstaltung/19399
SUMMARY:Spirit in Motion
PRIORITY:5
X-MICROSOFT-CDO-IMPORTANCE:1
CLASS:PUBLIC
END:VEVENT
END:VCALENDAR
