BEGIN:VCALENDAR
PRODID:-//kirchenweb.ch gmbh//veranstaltungsausgabe v2.0//DE
VERSION:2.0
METHOD:PUBLISH
BEGIN:VEVENT
DTSTART:20260513T120000Z
DTEND:20260513T130000Z
LOCATION:Kath. Pfarreizentrum St. Gabriel\, \,
TRANSP:OPAQUE
SEQUENCE:0
UID:19221-veranstaltung@kath-dfs.ch
DTSTAMP:20260212T133337Z
DESCRIPTION:Im Foyer werden einige Gesellschaftsspiele bereitgestellt\, um
  gemeinsam zu spielen. Gerne können Sie auch eigene Spiele mitbringen.
  Auch beim Kaffee dürfen Sie sich bedienen.\n\nKontakt:
  marlis.thoma@kath-dfs.ch\n\nWeitere Infos:
  https://www.kath-dfs.ch/veranstaltung/19221
SUMMARY:Spielnachmittag für Erwachsene
PRIORITY:5
X-MICROSOFT-CDO-IMPORTANCE:1
CLASS:PUBLIC
END:VEVENT
END:VCALENDAR
