BEGIN:VCALENDAR
PRODID:-//kirchenweb.ch gmbh//veranstaltungsausgabe v2.0//DE
VERSION:2.0
METHOD:PUBLISH
BEGIN:VEVENT
DTSTART:20260424T180000Z
DTEND:20260424T190000Z
LOCATION:Ref. Kirche\, Kirchstrasse 10\, 8603 Schwerzenbach
TRANSP:OPAQUE
SEQUENCE:0
UID:19126-veranstaltung@kath-dfs.ch
DTSTAMP:20260204T094704Z
DESCRIPTION:Über Geschichte und Gegenwart der Communauté de Taizé
 \n(Taizé-Gemeinschaft) kann man sich im Internet umfassend\ninformieren.
 \n\nUnsere ökumenischen Taizé-Gebete dauern etwa eine halbe Stunde.\n
 \nEs sind schlichte\, liturgische Gottesdienste:\n\nLob Gottes und
  Vertiefung des christlichen Glaubens in den Liedern\, Texte aus der
  Bibel\, Stille\, Fürbitten\, Unservater / Vaterunser und Segenszuspruch.
 \n\nDie einstrophigen Taizé-Lieder werden mehrmals gesungen\, damit man
  sie sich innerlich aneignen kann.\n\nPsalmverse und Fürbitten werden
  abwechselnd gelesen\, dazwischen wird ein „Alleluja“ / ein „Kyrie
  eleison“ gesungen.\n\n\nKontakt: marlis.thoma@kath-dfs.ch\n\nWeitere
  Infos: https://www.kath-dfs.ch/veranstaltung/19126
SUMMARY:ökum. Taizé-Gebet
PRIORITY:5
X-MICROSOFT-CDO-IMPORTANCE:1
CLASS:PUBLIC
END:VEVENT
END:VCALENDAR
