BEGIN:VCALENDAR
PRODID:-//kirchenweb.ch gmbh//veranstaltungsausgabe v2.0//DE
VERSION:2.0
METHOD:PUBLISH
BEGIN:VEVENT
DTSTART:20260313T183000Z
DTEND:20260313T203000Z
LOCATION:Kath. Pfarreizentrum St. Gabriel\, Dorfstrasse 9a\, 8603
  Schwerzenbach
TRANSP:OPAQUE
SEQUENCE:0
UID:19097-veranstaltung@kath-dfs.ch
DTSTAMP:20260115T101609Z
DESCRIPTION:Kontakt: marlis.thoma@kath-dfs.ch\n\nWeitere Infos:
  https://www.kath-dfs.ch/veranstaltung/19097
SUMMARY:Jugendtreff
PRIORITY:5
X-MICROSOFT-CDO-IMPORTANCE:1
CLASS:PUBLIC
END:VEVENT
END:VCALENDAR
