BEGIN:VCALENDAR
PRODID:-//kirchenweb.ch gmbh//veranstaltungsausgabe v2.0//DE
VERSION:2.0
METHOD:PUBLISH
BEGIN:VEVENT
DTSTART:20260227T170000Z
DTEND:20260227T190000Z
LOCATION:Kath. Pfarreizentrum St. Gabriel\, Dorfstrasse 9a\, 8603
  Schwerzenbach
TRANSP:OPAQUE
SEQUENCE:0
UID:18992-veranstaltung@kath-dfs.ch
DTSTAMP:20260108T145313Z
DESCRIPTION:Kontakt: marlis.thoma@kath-dfs.ch\n\nWeitere Infos:
  https://www.kath-dfs.ch/veranstaltung/18992
SUMMARY:Jugendtreff
PRIORITY:5
X-MICROSOFT-CDO-IMPORTANCE:1
CLASS:PUBLIC
END:VEVENT
END:VCALENDAR
