BEGIN:VCALENDAR
PRODID:-//kirchenweb.ch gmbh//veranstaltungsausgabe v2.0//DE
VERSION:2.0
METHOD:PUBLISH
BEGIN:VEVENT
DTSTART:20260130T183000Z
DTEND:20260130T210000Z
LOCATION:Kath. Kirche St. Katharina von Siena\, \,
TRANSP:OPAQUE
SEQUENCE:0
UID:18767-veranstaltung@kath-dfs.ch
DTSTAMP:20251215T082646Z
DESCRIPTION:Kontakt: teresa.lauber@kath-dfs.ch\n\nWeitere Infos:
  https://www.kath-dfs.ch/veranstaltung/18767
SUMMARY:Portugiesische Gebetsgruppe
PRIORITY:5
X-MICROSOFT-CDO-IMPORTANCE:1
CLASS:PUBLIC
END:VEVENT
END:VCALENDAR
