BEGIN:VCALENDAR
PRODID:-//kirchenweb.ch gmbh//veranstaltungsausgabe v2.0//DE
VERSION:2.0
METHOD:PUBLISH
BEGIN:VEVENT
DTSTART:20260124T134500Z
DTEND:20260124T144500Z
LOCATION:Kath. Kirche St. Katharina von Siena\, \,
TRANSP:OPAQUE
SEQUENCE:0
UID:18428-veranstaltung@kath-dfs.ch
DTSTAMP:20251204T080343Z
DESCRIPTION:Kontakt: teresa.lauber@kath-dfs.ch\n\nWeitere Infos:
  https://www.kath-dfs.ch/veranstaltung/18428
SUMMARY:Familiengottesdienst zur Tauferneuerung
PRIORITY:5
X-MICROSOFT-CDO-IMPORTANCE:1
CLASS:PUBLIC
END:VEVENT
END:VCALENDAR
