BEGIN:VCALENDAR
PRODID:-//kirchenweb.ch gmbh//veranstaltungsausgabe v2.0//DE
VERSION:2.0
METHOD:PUBLISH
BEGIN:VEVENT
DTSTART:20260118T090000Z
DTEND:20260118T100000Z
LOCATION:Kirche Wigarten\, Wigartenstrasse 6\, 8117 Fällanden
TRANSP:OPAQUE
SEQUENCE:0
UID:18427-veranstaltung@kath-dfs.ch
DTSTAMP:20260115T180252Z
DESCRIPTION:Kontakt: teresa.lauber@kath-dfs.ch\n\nWeitere Infos:
  https://www.kath-dfs.ch/veranstaltung/18427
SUMMARY:Ökum. Gottesdienst zur Woche der Einheit
PRIORITY:5
X-MICROSOFT-CDO-IMPORTANCE:1
CLASS:PUBLIC
END:VEVENT
END:VCALENDAR
