BEGIN:VCALENDAR
PRODID:-//kirchenweb.ch gmbh//veranstaltungsausgabe v2.0//DE
VERSION:2.0
METHOD:PUBLISH
BEGIN:VEVENT
DTSTART:20251231T160000Z
DTEND:20251231T170000Z
LOCATION:Kath. Kirche St. Katharina von Siena\, \,
TRANSP:OPAQUE
SEQUENCE:0
UID:18394-veranstaltung@kath-dfs.ch
DTSTAMP:20251213T203327Z
DESCRIPTION:Kontakt: teresa.lauber@kath-dfs.ch\n\nWeitere Infos:
  https://www.kath-dfs.ch/veranstaltung/18394
SUMMARY:Anbetung zum Jahresübergang mit Gebet und Musik
PRIORITY:5
X-MICROSOFT-CDO-IMPORTANCE:1
CLASS:PUBLIC
END:VEVENT
END:VCALENDAR
