BEGIN:VCALENDAR
PRODID:-//kirchenweb.ch gmbh//veranstaltungsausgabe v2.0//DE
VERSION:2.0
METHOD:PUBLISH
BEGIN:VEVENT
DTSTART:20251102T163000Z
DTEND:20251102T173000Z
LOCATION:Kath. Kirche St. Katharina von Siena\, Fällanden\, \,
TRANSP:OPAQUE
SEQUENCE:0
UID:18366-veranstaltung@kath-dfs.ch
DTSTAMP:20251031T112358Z
DESCRIPTION:Kontakt: benjamin.schmid@kath-dfs.ch\n\nWeitere Infos:
  https://www.kath-dfs.ch/veranstaltung/18366
SUMMARY:Eucharistische Anbetung und Rosenkranz für Verstorbene
PRIORITY:5
X-MICROSOFT-CDO-IMPORTANCE:1
CLASS:PUBLIC
END:VEVENT
END:VCALENDAR
