BEGIN:VCALENDAR
PRODID:-//kirchenweb.ch gmbh//veranstaltungsausgabe v2.0//DE
VERSION:2.0
METHOD:PUBLISH
BEGIN:VEVENT
DTSTART:20250924T150000Z
DTEND:20250924T160000Z
LOCATION:Kath. Kirche St. Katharina von Siena\, Sunnetalstr.4\, 8117
  Fällanden
TRANSP:OPAQUE
SEQUENCE:0
UID:18160-veranstaltung@kath-dfs.ch
DTSTAMP:20250710T142159Z
DESCRIPTION:Kontakt: benjamin.schmid@kath-dfs.ch\n\nWeitere Infos:
  https://www.kath-dfs.ch/veranstaltung/18160
SUMMARY:Eucharistische Aussetzung mit Gebet und Musik
PRIORITY:5
X-MICROSOFT-CDO-IMPORTANCE:1
CLASS:PUBLIC
END:VEVENT
END:VCALENDAR
