BEGIN:VCALENDAR
PRODID:-//kirchenweb.ch gmbh//veranstaltungsausgabe v2.0//DE
VERSION:2.0
METHOD:PUBLISH
BEGIN:VEVENT
DTSTART:20251203T080000Z
DTEND:20251203T090000Z
LOCATION:Kath. Kirche St. Katharina von Siena\, Sunnetalstr.4\, 8117
  Fällanden
TRANSP:OPAQUE
SEQUENCE:0
UID:18145-veranstaltung@kath-dfs.ch
DTSTAMP:20250710T141743Z
DESCRIPTION:Kontakt: benjamin.schmid@kath-dfs.ch\n\nWeitere Infos:
  https://www.kath-dfs.ch/veranstaltung/18145
SUMMARY:Eucharistiefeier
PRIORITY:5
X-MICROSOFT-CDO-IMPORTANCE:1
CLASS:PUBLIC
END:VEVENT
END:VCALENDAR
