BEGIN:VCALENDAR
PRODID:-//kirchenweb.ch gmbh//veranstaltungsausgabe v2.0//DE
VERSION:2.0
METHOD:PUBLISH
BEGIN:VEVENT
DTSTART:20251106T073000Z
DTEND:20251106T083000Z
LOCATION:Kath. Kirche St. Katharina von Siena\, Sunnetalstr.4\, 8117
  Fällanden
TRANSP:OPAQUE
SEQUENCE:0
UID:18108-veranstaltung@kath-dfs.ch
DTSTAMP:20250710T141336Z
DESCRIPTION:Kontakt: benjamin.schmid@kath-dfs.ch\n\nWeitere Infos:
  https://www.kath-dfs.ch/veranstaltung/18108
SUMMARY:Rosenkranzgebet mit Beichtgelegenheit
PRIORITY:5
X-MICROSOFT-CDO-IMPORTANCE:1
CLASS:PUBLIC
END:VEVENT
END:VCALENDAR
