BEGIN:VCALENDAR
PRODID:-//kirchenweb.ch gmbh//veranstaltungsausgabe v2.0//DE
VERSION:2.0
METHOD:PUBLISH
BEGIN:VEVENT
DTSTART:20251102T090000Z
DTEND:20251102T100000Z
LOCATION:Kath. Kirche St. Katharina von Siena\, \,
TRANSP:OPAQUE
SEQUENCE:0
UID:18067-veranstaltung@kath-dfs.ch
DTSTAMP:20250708T143329Z
DESCRIPTION:Kontakt: benjamin.schmid@kath-dfs.ch\n\nWeitere Infos:
  https://www.kath-dfs.ch/veranstaltung/18067
SUMMARY:Eucharistiefeier zu Allerheiligen und Allerseelen mit
  Totengedenken
PRIORITY:5
X-MICROSOFT-CDO-IMPORTANCE:1
CLASS:PUBLIC
END:VEVENT
END:VCALENDAR
