BEGIN:VCALENDAR
PRODID:-//kirchenweb.ch gmbh//veranstaltungsausgabe v2.0//DE
VERSION:2.0
METHOD:PUBLISH
BEGIN:VEVENT
DTSTART:20250921T153000Z
DTEND:20250921T163000Z
LOCATION:Kath. Kirche St. Katharina von Siena\, Sunnetalstr.4\, 8117
  Fällanden
TRANSP:OPAQUE
SEQUENCE:0
UID:18035-veranstaltung@kath-dfs.ch
DTSTAMP:20250708T134412Z
DESCRIPTION:Kontakt: benjamin.schmid@kath-dfs.ch\n\nWeitere Infos:
  https://www.kath-dfs.ch/veranstaltung/18035
SUMMARY:Jugendgottesdienst/Eucharistiefeier
PRIORITY:5
X-MICROSOFT-CDO-IMPORTANCE:1
CLASS:PUBLIC
END:VEVENT
END:VCALENDAR
