BEGIN:VCALENDAR
PRODID:-//kirchenweb.ch gmbh//veranstaltungsausgabe v2.0//DE
VERSION:2.0
METHOD:PUBLISH
BEGIN:VEVENT
DTSTART:20250824T150000Z
DTEND:20250824T160000Z
LOCATION:Kath. Kirche Maria Frieden\, Neuhausstr. 34\, 8600 Dübendorf
TRANSP:OPAQUE
SEQUENCE:0
UID:18009-veranstaltung@kath-dfs.ch
DTSTAMP:20250721T152916Z
DESCRIPTION:Kontakt: maria.golini@kath-dfs.ch\n\nWeitere Infos:
  https://www.kath-dfs.ch/veranstaltung/18009
SUMMARY:Orgelkonzert: Prof. Pier Damiano Peretti (Wien)
PRIORITY:5
X-MICROSOFT-CDO-IMPORTANCE:1
CLASS:PUBLIC
END:VEVENT
END:VCALENDAR
