BEGIN:VCALENDAR
PRODID:-//kirchenweb.ch gmbh//veranstaltungsausgabe v2.0//DE
VERSION:2.0
METHOD:PUBLISH
BEGIN:VEVENT
DTSTART:20250824T070000Z
DTEND:20250824T080000Z
LOCATION:Lazariterkirche Gfenn\, \,
TRANSP:OPAQUE
SEQUENCE:0
UID:17867-veranstaltung@kath-dfs.ch
DTSTAMP:20250514T122541Z
DESCRIPTION:Kontakt: maria.golini@kath-dfs.ch\n\nWeitere Infos:
  https://www.kath-dfs.ch/veranstaltung/17867
SUMMARY:Eucharistiefeier im Gfenn
PRIORITY:5
X-MICROSOFT-CDO-IMPORTANCE:1
CLASS:PUBLIC
END:VEVENT
END:VCALENDAR
