BEGIN:VCALENDAR
PRODID:-//kirchenweb.ch gmbh//veranstaltungsausgabe v2.0//DE
VERSION:2.0
METHOD:PUBLISH
BEGIN:VEVENT
DTSTART:20251112T100000Z
DTEND:20251112T110000Z
LOCATION:Alterszentrum Dübendorf\, Fällandenstrasse\, 8600 Dübendorf
TRANSP:OPAQUE
SEQUENCE:0
UID:17681-veranstaltung@kath-dfs.ch
DTSTAMP:20250514T110757Z
DESCRIPTION:Kontakt: maria.golini@kath-dfs.ch\n\nWeitere Infos:
  https://www.kath-dfs.ch/veranstaltung/17681
SUMMARY:Eucharistiefeier im Alterszentrum
PRIORITY:5
X-MICROSOFT-CDO-IMPORTANCE:1
CLASS:PUBLIC
END:VEVENT
END:VCALENDAR
