BEGIN:VCALENDAR
PRODID:-//kirchenweb.ch gmbh//veranstaltungsausgabe v2.0//DE
VERSION:2.0
METHOD:PUBLISH
BEGIN:VEVENT
DTSTART:20250902T070000Z
DTEND:20250902T080000Z
LOCATION:Krypta der Kath. Kirche Maria Frieden\, Neuhausstr. 34\, 8600
  Dübendorf
TRANSP:OPAQUE
SEQUENCE:0
UID:17644-veranstaltung@kath-dfs.ch
DTSTAMP:20250514T100049Z
DESCRIPTION:Kontakt: maria.golini@kath-dfs.ch\n\nWeitere Infos:
  https://www.kath-dfs.ch/veranstaltung/17644
SUMMARY:Eucharistiefeier
PRIORITY:5
X-MICROSOFT-CDO-IMPORTANCE:1
CLASS:PUBLIC
END:VEVENT
END:VCALENDAR
