BEGIN:VCALENDAR
PRODID:-//kirchenweb.ch gmbh//veranstaltungsausgabe v2.0//DE
VERSION:2.0
METHOD:PUBLISH
BEGIN:VEVENT
DTSTART:20250831T080000Z
DTEND:20250831T090000Z
LOCATION:Zwicky Fabrik Fällanden\, \,
TRANSP:OPAQUE
SEQUENCE:0
UID:17561-veranstaltung@kath-dfs.ch
DTSTAMP:20250327T145014Z
DESCRIPTION:Kontakt: benjamin.schmid@kath-dfs.ch\n\nWeitere Infos:
  https://www.kath-dfs.ch/veranstaltung/17561
SUMMARY:Ökum. Chilbigottesdienst
PRIORITY:5
X-MICROSOFT-CDO-IMPORTANCE:1
CLASS:PUBLIC
END:VEVENT
END:VCALENDAR
