BEGIN:VCALENDAR
PRODID:-//kirchenweb.ch gmbh//veranstaltungsausgabe v2.0//DE
VERSION:2.0
METHOD:PUBLISH
BEGIN:VEVENT
DTSTART:20250327T084000Z
DTEND:20250327T094000Z
LOCATION:Kath. Kirche St. Katharina von Siena\, \,
TRANSP:OPAQUE
SEQUENCE:0
UID:17519-veranstaltung@kath-dfs.ch
DTSTAMP:20250320T075409Z
DESCRIPTION:Kontakt: benjamin.schmid@kath-dfs.ch\n\nWeitere Infos:
  https://www.kath-dfs.ch/veranstaltung/17519
SUMMARY:Kreuzweg-Andacht
PRIORITY:5
X-MICROSOFT-CDO-IMPORTANCE:1
CLASS:PUBLIC
END:VEVENT
END:VCALENDAR
