BEGIN:VCALENDAR
PRODID:-//kirchenweb.ch gmbh//veranstaltungsausgabe v2.0//DE
VERSION:2.0
METHOD:PUBLISH
BEGIN:VEVENT
DTSTART:20250320T130000Z
DTEND:20250320T140000Z
LOCATION:Saal des kath. Pfarreizentrums St. Gabriel\, Dorfstrasse 9a\,
  8603 Schwerzenbach
TRANSP:OPAQUE
SEQUENCE:0
UID:17228-veranstaltung@kath-dfs.ch
DTSTAMP:20250115T105757Z
DESCRIPTION:Mit einem Filmvortrag von Hans Deflorin: Kuba Rundreise
  Frühjahr 2005\n\nFür Abholdienst bitte bis 10.00 Uhr im Sekretariat
  melden (Tel. 043 355 57 62). \n\nKontakt: marlis.thoma@kath-dfs.ch\n
 \nWeitere Infos: https://www.kath-dfs.ch/veranstaltung/17228
SUMMARY:ökumenischer Seniorenkafi
PRIORITY:5
X-MICROSOFT-CDO-IMPORTANCE:1
CLASS:PUBLIC
END:VEVENT
END:VCALENDAR
