BEGIN:VCALENDAR
PRODID:-//kirchenweb.ch gmbh//veranstaltungsausgabe v2.0//DE
VERSION:2.0
METHOD:PUBLISH
BEGIN:VEVENT
DTSTART:20250112T120000Z
DTEND:20250112T130000Z
LOCATION:Maria Frieden Kirche\, \,
TRANSP:OPAQUE
SEQUENCE:0
UID:17013-veranstaltung@kath-dfs.ch
DTSTAMP:20241202T061929Z
DESCRIPTION:Kontakt: maria.golini@kath-dfs.ch\n\nWeitere Infos:
  https://www.kath-dfs.ch/veranstaltung/17013
SUMMARY:3. Klasse: Erlebnistag mit Tauferneuerung
PRIORITY:5
X-MICROSOFT-CDO-IMPORTANCE:1
CLASS:PUBLIC
END:VEVENT
END:VCALENDAR
