BEGIN:VCALENDAR
PRODID:-//kirchenweb.ch gmbh//veranstaltungsausgabe v2.0//DE
VERSION:2.0
METHOD:PUBLISH
BEGIN:VEVENT
DTSTART:20250911T070000Z
DTEND:20250911T080000Z
LOCATION:Pfarreizentrum Leepünt\, Leepüntstrasse 14\, 8600 Dübendorf
TRANSP:OPAQUE
SEQUENCE:0
UID:16940-veranstaltung@kath-dfs.ch
DTSTAMP:20250625T132259Z
DESCRIPTION:Kontakt: maria.golini@kath-dfs.ch\n\nWeitere Infos:
  https://www.kath-dfs.ch/veranstaltung/16940
SUMMARY:Ökum. Frauentreff
PRIORITY:5
X-MICROSOFT-CDO-IMPORTANCE:1
CLASS:PUBLIC
END:VEVENT
END:VCALENDAR
