BEGIN:VCALENDAR
PRODID:-//kirchenweb.ch gmbh//veranstaltungsausgabe v2.0//DE
VERSION:2.0
METHOD:PUBLISH
BEGIN:VEVENT
DTSTART:20250305T180000Z
DTEND:20250305T190000Z
LOCATION:Kath. Kirche St. Katharina von Siena\, Sunnetalstr.4\, 8117
  Fällanden
TRANSP:OPAQUE
SEQUENCE:0
UID:16626-veranstaltung@kath-dfs.ch
DTSTAMP:20250226T083529Z
DESCRIPTION:Kontakt: benjamin.schmid@kath-dfs.ch\n\nWeitere Infos:
  https://www.kath-dfs.ch/veranstaltung/16626
SUMMARY:Eucharistiefeier zu Aschermittwoch
PRIORITY:5
X-MICROSOFT-CDO-IMPORTANCE:1
CLASS:PUBLIC
END:VEVENT
END:VCALENDAR
