BEGIN:VCALENDAR
PRODID:-//kirchenweb.ch gmbh//veranstaltungsausgabe v2.0//DE
VERSION:2.0
METHOD:PUBLISH
BEGIN:VEVENT
DTSTART:20241207T090000Z
DTEND:20241207T100000Z
LOCATION:Waldhütte Lohholz Pfaffhausen\, \,
TRANSP:OPAQUE
SEQUENCE:0
UID:16391-veranstaltung@kath-dfs.ch
DTSTAMP:20240725T123702Z
DESCRIPTION:Kontakt: benjamin.schmid@kath-dfs.ch\n\nWeitere Infos:
  https://www.kath-dfs.ch/veranstaltung/16391
SUMMARY:Fiire mit de Chliine
PRIORITY:5
X-MICROSOFT-CDO-IMPORTANCE:1
CLASS:PUBLIC
END:VEVENT
END:VCALENDAR
