BEGIN:VCALENDAR
PRODID:-//kirchenweb.ch gmbh//veranstaltungsausgabe v2.0//DE
VERSION:2.0
METHOD:PUBLISH
BEGIN:VEVENT
DTSTART:20240625T080000Z
DTEND:20240625T083000Z
LOCATION:Kath. Kapelle St. Gabriel\, Dorfstrasse 9a\, 8603 Schwerzenbach
TRANSP:OPAQUE
SEQUENCE:0
UID:16079-veranstaltung@kath-dfs.ch
DTSTAMP:20240418T084810Z
DESCRIPTION:Kontakt: marlis.thoma@kath-dfs.ch\n\nWeitere Infos:
  https://www.kath-dfs.ch/veranstaltung/16079
SUMMARY:Eucharistiefeier
PRIORITY:5
X-MICROSOFT-CDO-IMPORTANCE:1
CLASS:PUBLIC
END:VEVENT
END:VCALENDAR
