BEGIN:VCALENDAR
PRODID:-//kirchenweb.ch gmbh//veranstaltungsausgabe v2.0//DE
VERSION:2.0
METHOD:PUBLISH
BEGIN:VEVENT
DTSTART:20241213T123000Z
DTEND:20241213T133000Z
LOCATION:Pfarreizentrum Leepünt\, Leepüntstrasse 14\, 8600 Dübendorf
TRANSP:OPAQUE
SEQUENCE:0
UID:16058-veranstaltung@kath-dfs.ch
DTSTAMP:20240408T140456Z
DESCRIPTION:Kontakt: maria.golini@kath-dfs.ch\n\nWeitere Infos:
  https://www.kath-dfs.ch/veranstaltung/16058
SUMMARY:Jassnachmittag im Pianoraum
PRIORITY:5
X-MICROSOFT-CDO-IMPORTANCE:1
CLASS:PUBLIC
END:VEVENT
END:VCALENDAR
